BEGIN:VCALENDAR
VERSION:2.0
PRODID:-//Slipway Hotel - ECPv4.6.21//NONSGML v1.0//EN
CALSCALE:GREGORIAN
METHOD:PUBLISH
X-WR-CALNAME:Slipway Hotel
X-ORIGINAL-URL:https://www.slipwayhotel.com.au
X-WR-CALDESC:Events for Slipway Hotel
BEGIN:VEVENT
DTSTART;TZID=UTC+10:20200220T190000
DTEND;TZID=UTC+10:20200220T220000
DTSTAMP:20200302T045132
CREATED:20200128T022043Z
LAST-MODIFIED:20200128T022043Z
UID:2887-1582225200-1582236000@www.slipwayhotel.com.au
SUMMARY:ADAM BROWN
DESCRIPTION:
URL:https://www.slipwayhotel.com.au/event/adam-brown-18/
END:VEVENT
END:VCALENDAR