BEGIN:VCALENDAR
VERSION:2.0
PRODID:-//Slipway Hotel - ECPv4.6.21//NONSGML v1.0//EN
CALSCALE:GREGORIAN
METHOD:PUBLISH
X-WR-CALNAME:Slipway Hotel
X-ORIGINAL-URL:https://www.slipwayhotel.com.au
X-WR-CALDESC:Events for Slipway Hotel
BEGIN:VEVENT
DTSTART;TZID=UTC+10:20200313T200000
DTEND;TZID=UTC+10:20200313T230000
DTSTAMP:20200302T044249
CREATED:20200224T011106Z
LAST-MODIFIED:20200224T011106Z
UID:2925-1584129600-1584140400@www.slipwayhotel.com.au
SUMMARY:GLENN MASSEY & THE THREAD
DESCRIPTION:
URL:https://www.slipwayhotel.com.au/event/glenn-massey-the-thread-28/
END:VEVENT
END:VCALENDAR