BEGIN:VCALENDAR
VERSION:2.0
PRODID:-//Slipway Hotel - ECPv4.6.21//NONSGML v1.0//EN
CALSCALE:GREGORIAN
METHOD:PUBLISH
X-WR-CALNAME:Slipway Hotel
X-ORIGINAL-URL:https://www.slipwayhotel.com.au
X-WR-CALDESC:Events for Slipway Hotel
BEGIN:VEVENT
DTSTART;TZID=UTC+10:20200207T200000
DTEND;TZID=UTC+10:20200207T230000
DTSTAMP:20200302T045018
CREATED:20200128T021647Z
LAST-MODIFIED:20200128T021647Z
UID:2877-1581105600-1581116400@www.slipwayhotel.com.au
SUMMARY:PINK ZINK
DESCRIPTION:
URL:https://www.slipwayhotel.com.au/event/pink-zink-11/
END:VEVENT
END:VCALENDAR