BEGIN:VCALENDAR
VERSION:2.0
PRODID:-//Slipway Hotel - ECPv4.6.21//NONSGML v1.0//EN
CALSCALE:GREGORIAN
METHOD:PUBLISH
X-WR-CALNAME:Slipway Hotel
X-ORIGINAL-URL:https://www.slipwayhotel.com.au
X-WR-CALDESC:Events for Slipway Hotel
BEGIN:VEVENT
DTSTART;TZID=UTC+10:20200306T200000
DTEND;TZID=UTC+10:20200306T230000
DTSTAMP:20200302T044217
CREATED:20200224T013558Z
LAST-MODIFIED:20200224T013558Z
UID:2942-1583524800-1583535600@www.slipwayhotel.com.au
SUMMARY:PISTOL WHIP
DESCRIPTION:
URL:https://www.slipwayhotel.com.au/event/pistol-whip-5/
END:VEVENT
END:VCALENDAR