BEGIN:VCALENDAR
VERSION:2.0
PRODID:-//Slipway Hotel - ECPv4.6.21//NONSGML v1.0//EN
CALSCALE:GREGORIAN
METHOD:PUBLISH
X-WR-CALNAME:Slipway Hotel
X-ORIGINAL-URL:https://www.slipwayhotel.com.au
X-WR-CALDESC:Events for Slipway Hotel
BEGIN:VEVENT
DTSTART;TZID=UTC+10:20200221T200000
DTEND;TZID=UTC+10:20200221T230000
DTSTAMP:20200302T045147
CREATED:20200128T022109Z
LAST-MODIFIED:20200128T022109Z
UID:2889-1582315200-1582326000@www.slipwayhotel.com.au
SUMMARY:SABOTAGE
DESCRIPTION:
URL:https://www.slipwayhotel.com.au/event/sabotage-25/
END:VEVENT
END:VCALENDAR