BEGIN:VCALENDAR
VERSION:2.0
PRODID:-//Slipway Hotel - ECPv4.6.21//NONSGML v1.0//EN
CALSCALE:GREGORIAN
METHOD:PUBLISH
X-WR-CALNAME:Slipway Hotel
X-ORIGINAL-URL:https://www.slipwayhotel.com.au
X-WR-CALDESC:Events for Slipway Hotel
BEGIN:VEVENT
DTSTART;TZID=UTC+10:20200327T200000
DTEND;TZID=UTC+10:20200327T220000
DTSTAMP:20200302T044417
CREATED:20200224T013318Z
LAST-MODIFIED:20200224T013318Z
UID:2937-1585339200-1585346400@www.slipwayhotel.com.au
SUMMARY:THE BATZ
DESCRIPTION:
URL:https://www.slipwayhotel.com.au/event/the-batz-2/
END:VEVENT
END:VCALENDAR