BEGIN:VCALENDAR
VERSION:2.0
PRODID:-//Slipway Hotel - ECPv4.6.21//NONSGML v1.0//EN
CALSCALE:GREGORIAN
METHOD:PUBLISH
X-WR-CALNAME:Slipway Hotel
X-ORIGINAL-URL:https://www.slipwayhotel.com.au
X-WR-CALDESC:Events for Slipway Hotel
BEGIN:VEVENT
DTSTART;TZID=UTC+10:20200227T190000
DTEND;TZID=UTC+10:20200227T220000
DTSTAMP:20200302T035939
CREATED:20200128T022210Z
LAST-MODIFIED:20200128T022210Z
UID:2893-1582830000-1582840800@www.slipwayhotel.com.au
SUMMARY:JASON AYALA
DESCRIPTION:
URL:https://www.slipwayhotel.com.au/event/jason-ayala/
END:VEVENT
BEGIN:VEVENT
DTSTART;TZID=UTC+10:20200228T200000
DTEND;TZID=UTC+10:20200228T230000
DTSTAMP:20200302T035939
CREATED:20200128T022243Z
LAST-MODIFIED:20200128T022243Z
UID:2895-1582920000-1582930800@www.slipwayhotel.com.au
SUMMARY:JIMI & THE PAINTED CROWS
DESCRIPTION:
URL:https://www.slipwayhotel.com.au/event/jimi-the-painted-crows/
END:VEVENT
BEGIN:VEVENT
DTSTART;TZID=UTC+10:20200229T190000
DTEND;TZID=UTC+10:20200229T220000
DTSTAMP:20200302T035939
CREATED:20200128T022311Z
LAST-MODIFIED:20200128T022311Z
UID:2897-1583002800-1583013600@www.slipwayhotel.com.au
SUMMARY:SLIM PICKENS
DESCRIPTION:
URL:https://www.slipwayhotel.com.au/event/slim-pickens-26/
END:VEVENT
BEGIN:VEVENT
DTSTART;TZID=UTC+10:20200305T190000
DTEND;TZID=UTC+10:20200305T220000
DTSTAMP:20200302T035939
CREATED:20200224T010825Z
LAST-MODIFIED:20200224T013526Z
UID:2918-1583434800-1583445600@www.slipwayhotel.com.au
SUMMARY:DRUMMER NOT INCLUDED
DESCRIPTION:
URL:https://www.slipwayhotel.com.au/event/drummer-not-included-20/
END:VEVENT
BEGIN:VEVENT
DTSTART;TZID=UTC+10:20200306T200000
DTEND;TZID=UTC+10:20200306T230000
DTSTAMP:20200302T035939
CREATED:20200224T013558Z
LAST-MODIFIED:20200224T013558Z
UID:2942-1583524800-1583535600@www.slipwayhotel.com.au
SUMMARY:PISTOL WHIP
DESCRIPTION:
URL:https://www.slipwayhotel.com.au/event/pistol-whip-5/
END:VEVENT
BEGIN:VEVENT
DTSTART;TZID=UTC+10:20200307T190000
DTEND;TZID=UTC+10:20200307T220000
DTSTAMP:20200302T035939
CREATED:20200224T010903Z
LAST-MODIFIED:20200224T010933Z
UID:2920-1583607600-1583618400@www.slipwayhotel.com.au
SUMMARY:LEIGH JAMES
DESCRIPTION:
URL:https://www.slipwayhotel.com.au/event/pistol-whip-4/
END:VEVENT
BEGIN:VEVENT
DTSTART;TZID=UTC+10:20200312T190000
DTEND;TZID=UTC+10:20200312T220000
DTSTAMP:20200302T035939
CREATED:20200224T011031Z
LAST-MODIFIED:20200224T011031Z
UID:2923-1584039600-1584050400@www.slipwayhotel.com.au
SUMMARY:STEVE & AL McLEOD  DUO
DESCRIPTION:
URL:https://www.slipwayhotel.com.au/event/steve-al-mcleod-duo/
END:VEVENT
BEGIN:VEVENT
DTSTART;TZID=UTC+10:20200313T200000
DTEND;TZID=UTC+10:20200313T230000
DTSTAMP:20200302T035939
CREATED:20200224T011106Z
LAST-MODIFIED:20200224T011106Z
UID:2925-1584129600-1584140400@www.slipwayhotel.com.au
SUMMARY:GLENN MASSEY & THE THREAD
DESCRIPTION:
URL:https://www.slipwayhotel.com.au/event/glenn-massey-the-thread-28/
END:VEVENT
BEGIN:VEVENT
DTSTART;TZID=UTC+10:20200314T190000
DTEND;TZID=UTC+10:20200314T220000
DTSTAMP:20200302T035939
CREATED:20200224T011215Z
LAST-MODIFIED:20200224T011215Z
UID:2927-1584212400-1584223200@www.slipwayhotel.com.au
SUMMARY:SASS & THE DUDE
DESCRIPTION:
URL:https://www.slipwayhotel.com.au/event/sass-the-dude/
END:VEVENT
BEGIN:VEVENT
DTSTART;TZID=UTC+10:20200319T190000
DTEND;TZID=UTC+10:20200319T220000
DTSTAMP:20200302T035939
CREATED:20200224T011433Z
LAST-MODIFIED:20200224T013500Z
UID:2929-1584644400-1584655200@www.slipwayhotel.com.au
SUMMARY:TIM STOKES
DESCRIPTION:
URL:https://www.slipwayhotel.com.au/event/tim-stokes/
END:VEVENT
BEGIN:VEVENT
DTSTART;TZID=UTC+10:20200320T200000
DTEND;TZID=UTC+10:20200320T230000
DTSTAMP:20200302T035939
CREATED:20200224T012929Z
LAST-MODIFIED:20200224T012929Z
UID:2931-1584734400-1584745200@www.slipwayhotel.com.au
SUMMARY:BRIAN WATT BAND
DESCRIPTION:
URL:https://www.slipwayhotel.com.au/event/brian-watt-band-10/
END:VEVENT
BEGIN:VEVENT
DTSTART;TZID=UTC+10:20200321T190000
DTEND;TZID=UTC+10:20200321T220000
DTSTAMP:20200302T035939
CREATED:20200224T013222Z
LAST-MODIFIED:20200224T013222Z
UID:2933-1584817200-1584828000@www.slipwayhotel.com.au
SUMMARY:BILL JACOBI
DESCRIPTION:
URL:https://www.slipwayhotel.com.au/event/bill-jacobi-24/
END:VEVENT
BEGIN:VEVENT
DTSTART;TZID=UTC+10:20200326T190000
DTEND;TZID=UTC+10:20200326T220000
DTSTAMP:20200302T035939
CREATED:20200224T013251Z
LAST-MODIFIED:20200224T013251Z
UID:2935-1585249200-1585260000@www.slipwayhotel.com.au
SUMMARY:GTR DUO
DESCRIPTION:
URL:https://www.slipwayhotel.com.au/event/gtr-duo/
END:VEVENT
BEGIN:VEVENT
DTSTART;TZID=UTC+10:20200327T200000
DTEND;TZID=UTC+10:20200327T220000
DTSTAMP:20200302T035939
CREATED:20200224T013318Z
LAST-MODIFIED:20200224T013318Z
UID:2937-1585339200-1585346400@www.slipwayhotel.com.au
SUMMARY:THE BATZ
DESCRIPTION:
URL:https://www.slipwayhotel.com.au/event/the-batz-2/
END:VEVENT
BEGIN:VEVENT
DTSTART;TZID=UTC+10:20200328T190000
DTEND;TZID=UTC+10:20200328T220000
DTSTAMP:20200302T035939
CREATED:20200224T013344Z
LAST-MODIFIED:20200224T013344Z
UID:2939-1585422000-1585432800@www.slipwayhotel.com.au
SUMMARY:SWAMP CATS DUO
DESCRIPTION:
URL:https://www.slipwayhotel.com.au/event/swamp-cats-duo/
END:VEVENT
END:VCALENDAR